BEGIN:VCALENDAR
VERSION:2.0
PRODID:-//Boston Scottish Fiddle Club - ECPv6.15.20//NONSGML v1.0//EN
CALSCALE:GREGORIAN
METHOD:PUBLISH
X-ORIGINAL-URL:https://www.bsfc.org
X-WR-CALDESC:Events for Boston Scottish Fiddle Club
REFRESH-INTERVAL;VALUE=DURATION:PT1H
X-Robots-Tag:noindex
X-PUBLISHED-TTL:PT1H
BEGIN:VTIMEZONE
TZID:UTC
BEGIN:STANDARD
TZOFFSETFROM:+0000
TZOFFSETTO:+0000
TZNAME:UTC
DTSTART:20250101T000000
END:STANDARD
END:VTIMEZONE
BEGIN:VEVENT
DTSTART;TZID=UTC:20260607T150000
DTEND;TZID=UTC:20260607T180000
DTSTAMP:20260423T171803
CREATED:20260119T164928Z
LAST-MODIFIED:20260405T013752Z
UID:5841-1780844400-1780855200@www.bsfc.org
SUMMARY:Boston Scottish Fiddle Club's Annual Gala with Special Guest Ed Pearlman
DESCRIPTION:Help us celebrate the Boston Scottish Fiddle Club‘s 45th year and the Boston Scottish Fiddle Orchestra‘s 10th year anniversaries! \nThe evening will begin with a performance by the Boston Scottish Fiddle Orchestra\, followed by a mini concert featuring Ed Pearlman with Neil Pearlman on piano. \nThen join in the fun Ceilidh Dancing with an Open Ceilidh Bandplaying session tunes.  The dances are fun and easy. \nSilent Auction – Cash Bar – Refreshments \nNew Location:  VFW Hall in Needham (20 Junction St.\, Needham\, MA) \n3:00pm until about 6:00pm
URL:https://www.bsfc.org/event/5841/
LOCATION:VFW Post 2498\, 20 Junction St.\, Needham\, MA\, 02492\, United States
END:VEVENT
BEGIN:VEVENT
DTSTART;TZID=UTC:20260617T193000
DTEND;TZID=UTC:20260617T220000
DTSTAMP:20260423T171803
CREATED:20260119T162001Z
LAST-MODIFIED:20260405T011240Z
UID:5832-1781724600-1781733600@www.bsfc.org
SUMMARY:Scottish & Cape Breton Session with Leland Martin
DESCRIPTION:Come play some tunes\, learn new ones\, invite your friends. \n\nLocation:  The Canadian American Club\, 202 Arlington St.\, Watertown\n7:30-10:00PM\, Downstairs in the pub\n\n\nCash bar\n$5 minimum suggested donation\nOpen to the public – Everyone is welcome – All acoustic instruments\, ages\, visitors\, listeners\, friends\, etc\n\n** Join the Boston Scottish Fiddle Club Facebook Group\, follow on Instagram – Like\, Share\, comment\, etc. **
URL:https://www.bsfc.org/event/scottish-cape-breton-session-with-leland-martin-2/
LOCATION:Canadian American Club\, 202 Arlington St.\, Watertown\, MA\, 02472\, United States
END:VEVENT
END:VCALENDAR