BEGIN:VCALENDAR
VERSION:2.0
PRODID:-//Boston Scottish Fiddle Club - ECPv6.15.20//NONSGML v1.0//EN
CALSCALE:GREGORIAN
METHOD:PUBLISH
X-ORIGINAL-URL:https://www.bsfc.org
X-WR-CALDESC:Events for Boston Scottish Fiddle Club
REFRESH-INTERVAL;VALUE=DURATION:PT1H
X-Robots-Tag:noindex
X-PUBLISHED-TTL:PT1H
BEGIN:VTIMEZONE
TZID:UTC
BEGIN:STANDARD
TZOFFSETFROM:+0000
TZOFFSETTO:+0000
TZNAME:UTC
DTSTART:20240101T000000
END:STANDARD
END:VTIMEZONE
BEGIN:VEVENT
DTSTART;TZID=UTC:20251005T140000
DTEND;TZID=UTC:20251005T170000
DTSTAMP:20260423T222245
CREATED:20251015T040116Z
LAST-MODIFIED:20251015T043609Z
UID:5668-1759672800-1759683600@www.bsfc.org
SUMMARY:Monthly Meeting Workshop with Sue Chari
DESCRIPTION:Monthly Meeting \, instructor Sue Chari\nOctober 5 @ 2:00 pm – 5:00 pm \nLocation: \nPlymouth Congregational Church\n582 Pleasant St.\, Belmont\, MA\nEnter through the side door on Alexander Ave. Park on Pleasant street or the side streets. \nMeeting Schedule: \n2:00 – 3:00pm – Beginner/Intermediate workshop. This workshop is geared toward players who prefer to learn tunes at a slower pace. Expect to learn a tune or two\, including a popular session tune!\n3:00 – 3:30 Break / Social / snack. Catch up with friends and meet new ones.\n3:30 – 4:30 – Intermediate/Advanced workshop (faster-paced and/or more advanced). Expect this workshop to be taught at a faster pace and to involve advanced concepts such as bowing techniques\, grace notes\, etc.\n4:30 – 5:00 – Short Jam Session\nEveryone is welcome to attend both workshops\, however the second workshop will keep pace with the faster learners. We hope this format will encourage more people with a broader range of ability levels to participate in our workshops.\nIf you are not feeling well or have symptoms of any kind please protect your fellow members and stay home.
URL:https://www.bsfc.org/event/sunday-meeting-workshop-with-sue-chari/
LOCATION:Plymouth Congregational Church\, 582 Pleasant St.\, Belmont\, United States
END:VEVENT
BEGIN:VEVENT
DTSTART;TZID=UTC:20251015T193000
DTEND;TZID=UTC:20251015T220000
DTSTAMP:20260423T222245
CREATED:20251015T034624Z
LAST-MODIFIED:20251015T034929Z
UID:5661-1760556600-1760565600@www.bsfc.org
SUMMARY:Scottish & Cape Breton Session with Barbara McOwen and Tom Pixton
DESCRIPTION:Scottish and Cape Breton Session \nSession Leaders:  Barbara McOwen & Tom Pixton\nCome play some tunes\, learn new ones\, invite your friends. \n\nLocation:  The Canadian American Club\, 202 Arlington St.\, Watertown\n7:30-10:00PM\, Downstairs in the pub\n\n\nCash bar\n$5 minimum suggested donation\nOpen to the public – Everyone is welcome – All acoustic instruments\, ages\, visitors\, listeners\, friends\, etc\n\n** Join the Boston Scottish Fiddle Club Facebook Group\, follow on Instagram – Like\, Share\, comment\, etc. **
URL:https://www.bsfc.org/event/scottish-cape-breton-session-with-barbara-mcowen-and-tom-pixton/
LOCATION:Canadian American Club\, 202 Arlington St.\, Watertown\, MA\, 02472\, United States
END:VEVENT
END:VCALENDAR