BEGIN:VCALENDAR
VERSION:2.0
PRODID:-//Boston Scottish Fiddle Club - ECPv6.15.20//NONSGML v1.0//EN
CALSCALE:GREGORIAN
METHOD:PUBLISH
X-ORIGINAL-URL:https://www.bsfc.org
X-WR-CALDESC:Events for Boston Scottish Fiddle Club
REFRESH-INTERVAL;VALUE=DURATION:PT1H
X-Robots-Tag:noindex
X-PUBLISHED-TTL:PT1H
BEGIN:VTIMEZONE
TZID:UTC
BEGIN:STANDARD
TZOFFSETFROM:+0000
TZOFFSETTO:+0000
TZNAME:UTC
DTSTART:20230101T000000
END:STANDARD
END:VTIMEZONE
BEGIN:VEVENT
DTSTART;TZID=UTC:20241201T140000
DTEND;TZID=UTC:20241201T170000
DTSTAMP:20260424T103348
CREATED:20240904T005341Z
LAST-MODIFIED:20241001T160802Z
UID:5325-1733061600-1733072400@www.bsfc.org
SUMMARY:Monthly Meeting with Gordon Aucoin
DESCRIPTION:Monthly Meeting with Gordon Aucoin\n\nDecember 1 @ 2:00 pm – 5:00 pm\n\n\n\nLocation: \nPlymouth Congregational Church\n582 Pleasant St.\, Belmont\, MA\nEnter through the side door on Alexander Ave.  Park on Pleasant street or the side streets. \nMeeting Schedule: \n\n2:00 – 3:00pm – Beginner/Intermediate workshop. This workshop is geared toward players who prefer to learn tunes at a slower pace. Expect to learn a tune or two\, including a popular session tune!\n3:00 – 3:30 Break / Social / snack. Catch up with friends and meet new ones.\n3:30 – 4:30 – Intermediate/Advanced workshop (faster-paced and/or more advanced). Expect this workshop to be taught at a faster pace and to involve advanced concepts such as bowing techniques\, grace notes\, etc.\n4:30 – 5:00 – Demo/Mini Concert by Mari and a short Jam Session\n\n\nEveryone is welcome to attend both workshops\, however the second workshop will keep pace with the faster learners.  We hope this format will encourage more people with a broader range of ability levels to participate in our workshops.\n\n\nIf you are not feeling well or have symptoms of any kind please protect your fellow members and stay home.
URL:https://www.bsfc.org/event/monthly-meeting-6/
LOCATION:MA
END:VEVENT
BEGIN:VEVENT
DTSTART;TZID=UTC:20241214T190000
DTEND;TZID=UTC:20241214T210000
DTSTAMP:20260424T103348
CREATED:20241212T211913Z
LAST-MODIFIED:20241212T211913Z
UID:5415-1734202800-1734210000@www.bsfc.org
SUMMARY:Winter Concert
DESCRIPTION:
URL:https://www.bsfc.org/event/winter-concert/
LOCATION:Scandinavian Cultural Center\, 206 Waltham Street\, Newton\, MA\, United States
END:VEVENT
BEGIN:VEVENT
DTSTART;TZID=UTC:20241218T193000
DTEND;TZID=UTC:20241218T220000
DTSTAMP:20260424T103348
CREATED:20240904T010635Z
LAST-MODIFIED:20241119T183232Z
UID:5338-1734550200-1734559200@www.bsfc.org
SUMMARY:Scottish and Cape Breton Session
DESCRIPTION:Scottish and Cape Breton Session\n\nDecember 18 @ 7:30 pm – 10:00 pm\n\n\n\nScottish and Cape Breton Session \nSession Leaders: Summer McCall \nCome play some tunes\, learn new ones\, invite your friends.\nLocation:  The Canadian American Club\, 202 Arlington St.\, Watertown\n7:30-10:00PM\, Downstairs in the pub\nGraphic attached – spread the word\n** Join the Boston Scottish Fiddle Club Facebook Group\, follow in Instagram – Like\, Share\, comment\, show Interest in the event\, etc. **\n\n\nCash bar\n$5 minimum suggested donation\nMasks optional\nCovid-19 vaccination and boosters for which you are eligible are required\nOpen to the public – Everyone is welcome – All acoustic instruments\, ages\, visitors\, listeners\, friends\, etc
URL:https://www.bsfc.org/event/scottish-and-cape-breton-session-7/
LOCATION:MA
END:VEVENT
END:VCALENDAR