BEGIN:VCALENDAR
VERSION:2.0
PRODID:-//Boston Scottish Fiddle Club - ECPv6.15.20//NONSGML v1.0//EN
CALSCALE:GREGORIAN
METHOD:PUBLISH
X-ORIGINAL-URL:https://www.bsfc.org
X-WR-CALDESC:Events for Boston Scottish Fiddle Club
REFRESH-INTERVAL;VALUE=DURATION:PT1H
X-Robots-Tag:noindex
X-PUBLISHED-TTL:PT1H
BEGIN:VTIMEZONE
TZID:UTC
BEGIN:STANDARD
TZOFFSETFROM:+0000
TZOFFSETTO:+0000
TZNAME:UTC
DTSTART:20230101T000000
END:STANDARD
END:VTIMEZONE
BEGIN:VEVENT
DTSTART;TZID=UTC:20241103T103000
DTEND;TZID=UTC:20241103T233000
DTSTAMP:20260424T115736
CREATED:20240904T005246Z
LAST-MODIFIED:20241001T160625Z
UID:5323-1730629800-1730676600@www.bsfc.org
SUMMARY:Monthly Meeting- with Troy MacGillivray
DESCRIPTION:Monthly Meeting\n\nNovember 3 @ 10:30 am to 12:30 pm\nplease note location change to day of Canadian American Club Gala\n\n\n\nLocation: \nCanadian American Club\nArlington Street\, Watertown MA\nMeeting will take place downstairs in the pub \nMeeting Schedule: \n\n10:30 – 11:25 am – Beginner/Intermediate workshop. This workshop is geared toward players who prefer to learn tunes at a slower pace. Expect to learn a tune or two\, including a popular session tune!\n11:35 – 12:30  Intermediate/Advanced workshop (faster paced and/or more advanced) Expect this workshop to be taught at a faster pace and to involve advanced concepts such as bowing techniques\, grace notes\, etc.\n\n\nEveryone is welcome to attend both workshops\, however the second workshop will keep pace with the faster learners.  We hope this format will encourage more people with a broader range of ability levels to participate in our workshops.\n\n\nIf you are not feeling well or have symptoms of any kind please protect your fellow members and stay home.
URL:https://www.bsfc.org/event/monthly-meeting-please-note-date-and-location-could-change-to-day-of-canadian-american-club-gala/
LOCATION:Canadian American Club\, 202 Arlington St.\, Watertown\, MA\, 02472\, United States
END:VEVENT
BEGIN:VEVENT
DTSTART;TZID=UTC:20241119T080000
DTEND;TZID=UTC:20241119T170000
DTSTAMP:20260424T115736
CREATED:20250219T183419Z
LAST-MODIFIED:20241119T183654Z
UID:5377-1732003200-1732035600@www.bsfc.org
SUMMARY:Scottish and Cape Breton Session with Elizabeth Anderson
DESCRIPTION:Scottish and Cape Breton Session\nFebruary 19 @ 7:30 pm – 10:00 pm\n \nSession Leaders: Elizabeth Anderson\nCome play some tunes\, learn new ones\, invite your friends.\nLocation: The Canadian American Club\, 202 Arlington St.\, Watertown\n7:30-10:00PM\, Downstairs in the pub\nGraphic attached – spread the word\n** Join the Boston Scottish Fiddle Club Facebook Group\, follow in Instagram – Like\, Share\, comment\, show Interest in the event\, etc. **\nCash bar\n$5 minimum suggested donation\nMasks optional\nCovid-19 vaccination and boosters for which you are eligible are required\nOpen to the public – Everyone is welcome – All acoustic instruments\, ages\, visitors\, listeners\, friends\, etc
URL:https://www.bsfc.org/event/scottish-and-cape-breton-session-with-elizabeth-anderson-2/
LOCATION:MA
END:VEVENT
BEGIN:VEVENT
DTSTART;TZID=UTC:20241120T193000
DTEND;TZID=UTC:20241120T223000
DTSTAMP:20260424T115736
CREATED:20240904T010434Z
LAST-MODIFIED:20241119T183123Z
UID:5336-1732131000-1732141800@www.bsfc.org
SUMMARY:Scottish and Cape Breton Session with Mari Black and Janine Randall
DESCRIPTION:Scottish and Cape Breton Session\n\nNovember 20 @ 7:30 pm – 10:00 pm\n\n\n\nScottish and Cape Breton Session \nSession Leaders: Mari Black and Janine Randall\nCome play some tunes\, learn new ones\, invite your friends.\nLocation:  The Canadian American Club\, 202 Arlington St.\, Watertown\n7:30-10:00PM\, Downstairs in the pub\nGraphic attached – spread the word\n** Join the Boston Scottish Fiddle Club Facebook Group\, follow in Instagram – Like\, Share\, comment\, show Interest in the event\, etc. **\n\n\nCash bar\n$5 minimum suggested donation\nMasks optional\nCovid-19 vaccination and boosters for which you are eligible are required\nOpen to the public – Everyone is welcome – All acoustic instruments\, ages\, visitors\, listeners\, friends\, etc
URL:https://www.bsfc.org/event/scottish-and-cape-breton-session-6/
LOCATION:MA
END:VEVENT
END:VCALENDAR