BEGIN:VCALENDAR
VERSION:2.0
PRODID:-//Boston Scottish Fiddle Club - ECPv6.15.20//NONSGML v1.0//EN
CALSCALE:GREGORIAN
METHOD:PUBLISH
X-WR-CALNAME:Boston Scottish Fiddle Club
X-ORIGINAL-URL:https://www.bsfc.org
X-WR-CALDESC:Events for Boston Scottish Fiddle Club
REFRESH-INTERVAL;VALUE=DURATION:PT1H
X-Robots-Tag:noindex
X-PUBLISHED-TTL:PT1H
BEGIN:VTIMEZONE
TZID:UTC
BEGIN:STANDARD
TZOFFSETFROM:+0000
TZOFFSETTO:+0000
TZNAME:UTC
DTSTART:20230101T000000
END:STANDARD
END:VTIMEZONE
BEGIN:VEVENT
DTSTART;TZID=UTC:20240815T080000
DTEND;TZID=UTC:20240815T170000
DTSTAMP:20260424T160347
CREATED:20240716T195922Z
LAST-MODIFIED:20240716T195922Z
UID:5285-1723708800-1723741200@www.bsfc.org
SUMMARY:No session in August
DESCRIPTION:We will see you again in September
URL:https://www.bsfc.org/event/no-session-in-august/
LOCATION:MA
END:VEVENT
END:VCALENDAR