BEGIN:VCALENDAR
VERSION:2.0
PRODID:-//Boston Scottish Fiddle Club - ECPv6.15.20//NONSGML v1.0//EN
CALSCALE:GREGORIAN
METHOD:PUBLISH
X-WR-CALNAME:Boston Scottish Fiddle Club
X-ORIGINAL-URL:https://www.bsfc.org
X-WR-CALDESC:Events for Boston Scottish Fiddle Club
REFRESH-INTERVAL;VALUE=DURATION:PT1H
X-Robots-Tag:noindex
X-PUBLISHED-TTL:PT1H
BEGIN:VTIMEZONE
TZID:UTC
BEGIN:STANDARD
TZOFFSETFROM:+0000
TZOFFSETTO:+0000
TZNAME:UTC
DTSTART:20230101T000000
END:STANDARD
END:VTIMEZONE
BEGIN:VEVENT
DTSTART;TZID=UTC:20240717T080000
DTEND;TZID=UTC:20240717T170000
DTSTAMP:20260424T173012
CREATED:20240716T195834Z
LAST-MODIFIED:20240716T195834Z
UID:5283-1721203200-1721235600@www.bsfc.org
SUMMARY:No Session in July
DESCRIPTION:
URL:https://www.bsfc.org/event/no-session-in-july/
LOCATION:MA
END:VEVENT
END:VCALENDAR