BEGIN:VCALENDAR
VERSION:2.0
PRODID:-//Boston Scottish Fiddle Club - ECPv6.15.20//NONSGML v1.0//EN
CALSCALE:GREGORIAN
METHOD:PUBLISH
X-WR-CALNAME:Boston Scottish Fiddle Club
X-ORIGINAL-URL:https://www.bsfc.org
X-WR-CALDESC:Events for Boston Scottish Fiddle Club
REFRESH-INTERVAL;VALUE=DURATION:PT1H
X-Robots-Tag:noindex
X-PUBLISHED-TTL:PT1H
BEGIN:VTIMEZONE
TZID:UTC
BEGIN:STANDARD
TZOFFSETFROM:+0000
TZOFFSETTO:+0000
TZNAME:UTC
DTSTART:20160101T000000
END:STANDARD
END:VTIMEZONE
BEGIN:VEVENT
DTSTART;TZID=UTC:20171018T193000
DTEND;TZID=UTC:20171018T220000
DTSTAMP:20260425T111605
CREATED:20170824T054354Z
LAST-MODIFIED:20170824T054354Z
UID:252-1508355000-1508364000@www.bsfc.org
SUMMARY:Wednesday Night Session
DESCRIPTION:Meets the Third Wednesday of the month (September – June) \nThe Boston Scottish Fiddle Club sponsors this Scottish and Cape Breton jam session.  The energetic sessions have become quite popular and there is always room for more.  Come and play your favorite tunes with old and new friends. \nEveryone is welcome – All acoustic instruments\, ages\, abilities\, visitors\, listeners\, friends\, etc. \nRegular Session Leaders:  Katie McNally and Neil Pearlman. \nCash bar \n$5 minimum donation requested.
URL:https://www.bsfc.org/event/wednesday-night-session-2/
LOCATION:Canadian American Club\, 202 Arlington St.\, Watertown\, MA\, 02472\, United States
END:VEVENT
BEGIN:VEVENT
DTSTART;TZID=UTC:20171001T140000
DTEND;TZID=UTC:20171001T180000
DTSTAMP:20260425T111605
CREATED:20170824T050632Z
LAST-MODIFIED:20170925T012455Z
UID:223-1506866400-1506880800@www.bsfc.org
SUMMARY:Monthly Meeting with Katie McNally
DESCRIPTION:Workshop Leader:  Katie McNally \nThe Sunday Schedule: \n2:00 Beginner/Intermediate workshop (learn tunes at a slower pace) \n3:15 – 3:45 snacks / social (bring something to share if you would like) \n3:45 Intermediate/Advanced workshop (fast-paced and more advanced) \n4:45-6:00 performance/session \n—————————————————— \nOur workshops are led by some of the top musicians and teachers in the field of Scottish and Cape Breton music\, known for their outstanding teaching capability or virtuosity or both.  See their bios here. \nThe first workshop\, beginning at 2:00pm\, is geared toward players who prefer to learn tunes at a slower pace. Expect to learn a tune or two.  At 3:15 there is a half hour social time with snacks\, which is a good time for everyone to catch up with friends and meet new ones. \nThe second workshop\, beginning at 3:45\, is taught at a significantly faster pace and will involve more advanced concepts such as bowing techniques\, grace notes\, etc.  Everyone is welcome to attend both workshops\, however the second workshop will keep pace with the more advanced players.  We hope this format will encourage more people with a broader range of ability levels to participate in our workshops. \nWe end the day with a short performance by the instructor (optional) and a session.
URL:https://www.bsfc.org/event/monthly-meeting-workshops/
LOCATION:Plymouth Congregational Church\, 582 Pleasant St.\, Belmont\, United States
END:VEVENT
BEGIN:VEVENT
DTSTART;TZID=UTC:20170922T190000
DTEND;TZID=UTC:20170922T213000
DTSTAMP:20260425T111605
CREATED:20170907T183015Z
LAST-MODIFIED:20170918T144311Z
UID:397-1506106800-1506115800@www.bsfc.org
SUMMARY:Young Fiddlers Workshop with Katie McNally
DESCRIPTION:These workshops will be faster paced evenings geared toward musicians under 25. All instruments are welcome. Expect to learn a tune or two by ear\, meet old and new friends and play a session. Listeners welcome if space is available. Meet in the community room downstairs. Snacks will be served\, if you would like to bring a snack to share you are welcome to do so. \nFree for BSFC Members\, $15 Non-members.
URL:https://www.bsfc.org/event/young-fiddlers-workshop-katie-mcnally/
LOCATION:Fox Library\, 175 Mass Ave.\, Arlington\, MA\, United States
ORGANIZER;CN="Katharine MacPhail":MAILTO:macphailkat@gmail.com
END:VEVENT
BEGIN:VEVENT
DTSTART;TZID=UTC:20170920T193000
DTEND;TZID=UTC:20170920T220000
DTSTAMP:20260425T111605
CREATED:20170824T045503Z
LAST-MODIFIED:20170920T053141Z
UID:218-1505935800-1505944800@www.bsfc.org
SUMMARY:Wednesday Night Session with Katie and Neil
DESCRIPTION:Meets the Third Wednesday of the month (September – June) \nThe Boston Scottish Fiddle Club sponsors this Scottish and Cape Breton jam session.  The energetic sessions have become quite popular and there is always room for more.  Come and play your favorite tunes with old and new friends. \nEveryone is welcome – All acoustic instruments\, ages\, abilities\, visitors\, listeners\, friends\, etc. \nSession Leaders:  Katie McNally and Neil Pearlman. \nCash bar \n$5 minimum donation requested.
URL:https://www.bsfc.org/event/wednesday-night-session/
LOCATION:Canadian American Club\, 202 Arlington St.\, Watertown\, MA\, 02472\, United States
END:VEVENT
BEGIN:VEVENT
DTSTART;TZID=UTC:20170915T150000
DTEND;TZID=UTC:20170917T150000
DTSTAMP:20260425T111605
CREATED:20170830T151800Z
LAST-MODIFIED:20170830T181337Z
UID:319-1505487600-1505660400@www.bsfc.org
SUMMARY:Orchestra performances New Hampshire Highland Games
DESCRIPTION:If you are coming to the Games check us out!\n\nFriday\, September 15\n     3:00 – Governor’s Lodge\nSaturday\, September 16\n     9:15 – Concert Tent\n     12:30 – Governor’s Lodge\nSunday\, September 17\n     10:00 – Octagon Lodge\n     3:00 – Octagon Lodge
URL:https://www.bsfc.org/event/orchestra-performance-new-hampshire-highland-games/
LOCATION:Loon Mountain\, 60 Loon Mountain Road\, Lincoln\, NH\, 03251\, United States
END:VEVENT
BEGIN:VEVENT
DTSTART;TZID=UTC:20170910T140000
DTEND;TZID=UTC:20170910T180000
DTSTAMP:20260425T111605
CREATED:20170821T224129Z
LAST-MODIFIED:20170830T185424Z
UID:151-1505052000-1505066400@www.bsfc.org
SUMMARY:BSFC Annual Meeting / Potluck / Session
DESCRIPTION:Come to this open Annual Meeting of the Boston Scottish Fiddle Club.  It will be followed by a potluck and then a session.  Feel free to participate in part or all of the event.
URL:https://www.bsfc.org/event/bsfc-annual-meeting-potluck-session/
LOCATION:Plymouth Congregational Church\, 582 Pleasant St.\, Belmont\, United States
END:VEVENT
BEGIN:VEVENT
DTSTART;TZID=UTC:20170831T190000
DTEND;TZID=UTC:20170831T210000
DTSTAMP:20260425T111605
CREATED:20170830T152445Z
LAST-MODIFIED:20170830T152445Z
UID:321-1504206000-1504213200@www.bsfc.org
SUMMARY:Orchestra Rehearsal
DESCRIPTION:With Neil.  Refer to email for location.
URL:https://www.bsfc.org/event/orchestra-rehearsal/
CATEGORIES:Orchestra Schedule
END:VEVENT
END:VCALENDAR