BEGIN:VCALENDAR
VERSION:2.0
PRODID:-//Boston Scottish Fiddle Club - ECPv6.15.20//NONSGML v1.0//EN
CALSCALE:GREGORIAN
METHOD:PUBLISH
X-ORIGINAL-URL:https://www.bsfc.org
X-WR-CALDESC:Events for Boston Scottish Fiddle Club
REFRESH-INTERVAL;VALUE=DURATION:PT1H
X-Robots-Tag:noindex
X-PUBLISHED-TTL:PT1H
BEGIN:VTIMEZONE
TZID:UTC
BEGIN:STANDARD
TZOFFSETFROM:+0000
TZOFFSETTO:+0000
TZNAME:UTC
DTSTART:20170101T000000
END:STANDARD
END:VTIMEZONE
BEGIN:VTIMEZONE
TZID:America/New_York
BEGIN:DAYLIGHT
TZOFFSETFROM:-0500
TZOFFSETTO:-0400
TZNAME:EDT
DTSTART:20170312T070000
END:DAYLIGHT
BEGIN:STANDARD
TZOFFSETFROM:-0400
TZOFFSETTO:-0500
TZNAME:EST
DTSTART:20171105T060000
END:STANDARD
BEGIN:DAYLIGHT
TZOFFSETFROM:-0500
TZOFFSETTO:-0400
TZNAME:EDT
DTSTART:20180311T070000
END:DAYLIGHT
BEGIN:STANDARD
TZOFFSETFROM:-0400
TZOFFSETTO:-0500
TZNAME:EST
DTSTART:20181104T060000
END:STANDARD
BEGIN:DAYLIGHT
TZOFFSETFROM:-0500
TZOFFSETTO:-0400
TZNAME:EDT
DTSTART:20190310T070000
END:DAYLIGHT
BEGIN:STANDARD
TZOFFSETFROM:-0400
TZOFFSETTO:-0500
TZNAME:EST
DTSTART:20191103T060000
END:STANDARD
BEGIN:DAYLIGHT
TZOFFSETFROM:-0500
TZOFFSETTO:-0400
TZNAME:EDT
DTSTART:20200308T070000
END:DAYLIGHT
BEGIN:STANDARD
TZOFFSETFROM:-0400
TZOFFSETTO:-0500
TZNAME:EST
DTSTART:20201101T060000
END:STANDARD
END:VTIMEZONE
BEGIN:VEVENT
DTSTART;TZID=UTC:20231220T193000
DTEND;TZID=UTC:20231220T220000
DTSTAMP:20260423T234728
CREATED:20230930T015546Z
LAST-MODIFIED:20230930T015546Z
UID:5142-1703100600-1703109600@www.bsfc.org
SUMMARY:Wednesday Session with Katie McNally and Neil Pearlman
DESCRIPTION:
URL:https://www.bsfc.org/event/wednesday-session-with-katie-mcnally-and-neil-pearlman/
LOCATION:Canadian American Club\, 202 Arlington St.\, Watertown\, MA\, 02472\, United States
CATEGORIES:Wednesday Night Sessions
END:VEVENT
BEGIN:VEVENT
DTSTART;TZID=UTC:20201004T151500
DTEND;TZID=UTC:20201004T161500
DTSTAMP:20260423T234728
CREATED:20200812T025258Z
LAST-MODIFIED:20200818T010041Z
UID:2884-1601824500-1601828100@www.bsfc.org
SUMMARY:Online Workshop with Wendy MacIsaac
DESCRIPTION:For Members only\n\nZoom Workshop Schedule:\n\n2:00 – 3:00pm Beginner/Intermediate workshop \n(learn tunes at a slower pace)\n3:00 – 3:15 Break\n3:15 – 4:15 Intermediate/Advanced workshop \n(faster-paced and more advanced)\n\n\n\n* Members will receive the Zoom link the day before the workshop.\n\n\nWendy MacIsaac is a renowned fiddler from Cape Breton who has been playing music for over 30 years. She is recognized as one of the “old school” style of players who has kept the traditional sound going and has a deep respect for it.  Wendy is also a sought after piano accompanist and step dancer.  Besides performing as a solo artist\, Wendy tours with Mary Jane Lamond.  Wendy can also be seen performing with Heather Rankin and occasionally Beolach who she toured with for 11 years.  Wendy is in high demand for her skills at teaching the Cape Breton style of fiddling. She travels throughout North America and overseas as well as teaching from her home in Halifax.
URL:https://www.bsfc.org/event/online-workshop-leader-tba-7/
LOCATION:MA
CATEGORIES:Wednesday Night Sessions
END:VEVENT
BEGIN:VEVENT
DTSTART;TZID=UTC:20190619T193000
DTEND;TZID=UTC:20190619T220000
DTSTAMP:20260423T234728
CREATED:20180911T172052Z
LAST-MODIFIED:20190610T010301Z
UID:816-1560972600-1560981600@www.bsfc.org
SUMMARY:Wednesday Night Session with Rachel and Terry
DESCRIPTION:Meets the Third Wednesday of the month (September – June) \nThe Boston Scottish Fiddle Club sponsors this Scottish and Cape Breton jam session.  The energetic sessions have become quite popular and there is always room for more.  Come and play your favorite tunes with old and new friends. \nEveryone is welcome – All acoustic instruments\, ages\, visitors\, listeners\, friends\, etc. \nThese sessions are geared towards intermediate/advanced players but anyone is welcome to come and play what they can.  Also\, when someone starts a tune it will be played at the speed it is started\, which can be slow. \nCash bar \n$5 minimum donation requested. \nLIST OF POPULAR TUNES played at these sessions here. \nData on which tunes were played each month or frequency of tunes over time:  Lance Ramshaw’s site. \nQuestions?  Send us an email.
URL:https://www.bsfc.org/event/wednesday-night-session-18/
LOCATION:Canadian American Club\, 202 Arlington St.\, Watertown\, MA\, 02472\, United States
CATEGORIES:Wednesday Night Sessions
END:VEVENT
BEGIN:VEVENT
DTSTART;TZID=UTC:20190515T193000
DTEND;TZID=UTC:20190515T220000
DTSTAMP:20260423T234728
CREATED:20180911T171956Z
LAST-MODIFIED:20190508T030631Z
UID:814-1557948600-1557957600@www.bsfc.org
SUMMARY:Wednesday Night Session
DESCRIPTION:Meets the Third Wednesday of the month (September – June) \nThe Boston Scottish Fiddle Club sponsors this Scottish and Cape Breton jam session.  The energetic sessions have become quite popular and there is always room for more.  Come and play your favorite tunes with old and new friends. \nEveryone is welcome – All acoustic instruments\, ages\, visitors\, listeners\, friends\, etc. \nThese sessions are geared towards intermediate/advanced players but anyone is welcome to come and play what they can.  Also\, when someone starts a tune it will be played at the speed it is started\, which can be slow. \nCash bar \n$5 minimum donation requested. \nLIST OF POPULAR TUNES played at these sessions here. \nData on which tunes were played each month or frequency of tunes over time:  Lance Ramshaw’s site. \nQuestions?  Send us an email.
URL:https://www.bsfc.org/event/wednesday-night-session-17/
LOCATION:Canadian American Club\, 202 Arlington St.\, Watertown\, MA\, 02472\, United States
CATEGORIES:Wednesday Night Sessions
END:VEVENT
BEGIN:VEVENT
DTSTART;TZID=UTC:20190417T193000
DTEND;TZID=UTC:20190417T220000
DTSTAMP:20260423T234728
CREATED:20180911T171854Z
LAST-MODIFIED:20190404T190212Z
UID:812-1555529400-1555538400@www.bsfc.org
SUMMARY:Wednesday Night Session with Katie McNally & Neil Pearlman
DESCRIPTION:Meets the Third Wednesday of the month (September – June) \n \nThe Boston Scottish Fiddle Club sponsors this Scottish and Cape Breton jam session.  The energetic sessions have become quite popular and there is always room for more.  Come and play your favorite tunes with old and new friends. \nEveryone is welcome – All acoustic instruments\, ages\, visitors\, listeners\, friends\, etc. \nThese sessions are geared towards intermediate/advanced players but anyone is welcome to come and play what they can.  Also\, when someone starts a tune it will be played at the speed it is started\, which can be slow. \nRegular Session Leaders:  Katie McNally and Neil Pearlman. \nCash bar \n$5 minimum donation requested. \nLIST OF POPULAR TUNES played at these sessions here. \nData on which tunes were played each month or frequency of tunes over time:  Lance Ramshaw’s site. \nQuestions?  Send us an email.
URL:https://www.bsfc.org/event/wednesday-night-session-16/
LOCATION:Canadian American Club\, 202 Arlington St.\, Watertown\, MA\, 02472\, United States
CATEGORIES:Wednesday Night Sessions
END:VEVENT
BEGIN:VEVENT
DTSTART;TZID=America/New_York:20190320T193000
DTEND;TZID=America/New_York:20190320T220000
DTSTAMP:20260423T234728
CREATED:20180911T171732Z
LAST-MODIFIED:20180911T172546Z
UID:809-1553110200-1553119200@www.bsfc.org
SUMMARY:Wednesday Night Sessions
DESCRIPTION:Meets the Third Wednesday of the month (September – June) \nThe Boston Scottish Fiddle Club sponsors this Scottish and Cape Breton jam session.  The energetic sessions have become quite popular and there is always room for more.  Come and play your favorite tunes with old and new friends. \nEveryone is welcome – All acoustic instruments\, ages\, visitors\, listeners\, friends\, etc. \nThese sessions are geared towards intermediate/advanced players but anyone is welcome to come and play what they can.  Also\, when someone starts a tune it will be played at the speed it is started\, which can be slow. \nRegular Session Leaders:  Katie McNally and Neil Pearlman. \nCash bar \n$5 minimum donation requested. \nLIST OF POPULAR TUNES played at these sessions here. \nData on which tunes were played each month or frequency of tunes over time:  Lance Ramshaw’s site. \nQuestions?  Send us an email.
URL:https://www.bsfc.org/event/wednesday-night-sessions/
LOCATION:Canadian American Club\, 202 Arlington St.\, Watertown\, MA\, 02472\, United States
CATEGORIES:Wednesday Night Sessions
END:VEVENT
BEGIN:VEVENT
DTSTART;TZID=UTC:20190220T193000
DTEND;TZID=UTC:20190220T220000
DTSTAMP:20260423T234728
CREATED:20180911T170824Z
LAST-MODIFIED:20180911T172502Z
UID:805-1550691000-1550700000@www.bsfc.org
SUMMARY:Wednesday Night Session
DESCRIPTION:Meets the Third Wednesday of the month (September – June) \nThe Boston Scottish Fiddle Club sponsors this Scottish and Cape Breton jam session.  The energetic sessions have become quite popular and there is always room for more.  Come and play your favorite tunes with old and new friends. \nEveryone is welcome – All acoustic instruments\, ages\, visitors\, listeners\, friends\, etc. \nThese sessions are geared towards intermediate/advanced players but anyone is welcome to come and play what they can.  Also\, when someone starts a tune it will be played at the speed it is started\, which can be slow. \nRegular Session Leaders:  Katie McNally and Neil Pearlman. \nCash bar \n$5 minimum donation requested. \nLIST OF POPULAR TUNES played at these sessions here. \nData on which tunes were played each month or frequency of tunes over time:  Lance Ramshaw’s site. \nQuestions?  Send us an email.
URL:https://www.bsfc.org/event/wednesday-night-session-15/
LOCATION:Canadian American Club\, 202 Arlington St.\, Watertown\, MA\, 02472\, United States
CATEGORIES:Wednesday Night Sessions
END:VEVENT
BEGIN:VEVENT
DTSTART;TZID=UTC:20190116T193000
DTEND;TZID=UTC:20190116T220000
DTSTAMP:20260423T234728
CREATED:20180911T170616Z
LAST-MODIFIED:20190109T032911Z
UID:802-1547667000-1547676000@www.bsfc.org
SUMMARY:Wednesday Night Session with Elizabeth Anderson and Terry Traub
DESCRIPTION:Meets the Third Wednesday of the month (September – June) \nThe Boston Scottish Fiddle Club sponsors this Scottish and Cape Breton jam session.  The energetic sessions have become quite popular and there is always room for more.  Come and play your favorite tunes with old and new friends. \nEveryone is welcome – All acoustic instruments\, ages\, visitors\, listeners\, friends\, etc. \nThese sessions are geared towards intermediate/advanced players but anyone is welcome to come and play what they can.  Also\, when someone starts a tune it will be played at the speed it is started\, which can be slow. \nRegular Session Leaders:  Elizabeth Anderson and Terry Traub \nCash bar \n$5 minimum donation requested. \nLIST OF POPULAR TUNES played at these sessions here. \nData on which tunes were played each month or frequency of tunes over time:  Lance Ramshaw’s site. \nQuestions?  Send us an email.
URL:https://www.bsfc.org/event/wednesday-night-session-14/
LOCATION:Canadian American Club\, 202 Arlington St.\, Watertown\, MA\, 02472\, United States
CATEGORIES:Wednesday Night Sessions
END:VEVENT
BEGIN:VEVENT
DTSTART;TZID=America/New_York:20181219T193000
DTEND;TZID=America/New_York:20181219T220000
DTSTAMP:20260423T234728
CREATED:20180911T170526Z
LAST-MODIFIED:20181215T194226Z
UID:800-1545247800-1545256800@www.bsfc.org
SUMMARY:Wednesday Night Session
DESCRIPTION:Meets the Third Wednesday of the month (September – June) \nThe Boston Scottish Fiddle Club sponsors this Scottish and Cape Breton jam session.  The energetic sessions have become quite popular and there is always room for more.  Come and play your favorite tunes with old and new friends. \nEveryone is welcome – All acoustic instruments\, ages\, visitors\, listeners\, friends\, etc. \nThese sessions are geared towards intermediate/advanced players but anyone is welcome to come and play what they can.  Also\, when someone starts a tune it will be played at the speed it is started\, which can be slow. \nSession Leaders this month:   \nKatie McNally and Neil Pearlman \nCash bar \n$5 minimum donation requested. \nLIST OF POPULAR TUNES played at these sessions here. \nData on which tunes were played each month or frequency of tunes over time:  Lance Ramshaw’s site. \nQuestions?  Send us an email.
URL:https://www.bsfc.org/event/wednesday-night-session-13/
LOCATION:Canadian American Club\, 202 Arlington St.\, Watertown\, MA\, 02472\, United States
CATEGORIES:Wednesday Night Sessions
END:VEVENT
BEGIN:VEVENT
DTSTART;TZID=UTC:20181121T193000
DTEND;TZID=UTC:20181121T220000
DTSTAMP:20260423T234728
CREATED:20180911T170423Z
LAST-MODIFIED:20180911T172246Z
UID:798-1542828600-1542837600@www.bsfc.org
SUMMARY:Wednesday Night Session
DESCRIPTION:Meets the Third Wednesday of the month (September – June) \nThe Boston Scottish Fiddle Club sponsors this Scottish and Cape Breton jam session.  The energetic sessions have become quite popular and there is always room for more.  Come and play your favorite tunes with old and new friends. \nEveryone is welcome – All acoustic instruments\, ages\, visitors\, listeners\, friends\, etc. \nThese sessions are geared towards intermediate/advanced players but anyone is welcome to come and play what they can.  Also\, when someone starts a tune it will be played at the speed it is started\, which can be slow. \nRegular Session Leaders:  Katie McNally and Neil Pearlman. \nCash bar \n$5 minimum donation requested. \nLIST OF POPULAR TUNES played at these sessions here. \nData on which tunes were played each month or frequency of tunes over time:  Lance Ramshaw’s site. \nQuestions?  Send us an email.
URL:https://www.bsfc.org/event/wednesday-night-session-12/
LOCATION:Canadian American Club\, 202 Arlington St.\, Watertown\, MA\, 02472\, United States
CATEGORIES:Wednesday Night Sessions
END:VEVENT
BEGIN:VEVENT
DTSTART;TZID=America/New_York:20181017T193000
DTEND;TZID=America/New_York:20181017T220000
DTSTAMP:20260423T234728
CREATED:20180911T170339Z
LAST-MODIFIED:20180911T172204Z
UID:796-1539804600-1539813600@www.bsfc.org
SUMMARY:Wednesday Night Session
DESCRIPTION:Meets the Third Wednesday of the month (September – June) \nThe Boston Scottish Fiddle Club sponsors this Scottish and Cape Breton jam session.  The energetic sessions have become quite popular and there is always room for more.  Come and play your favorite tunes with old and new friends. \nEveryone is welcome – All acoustic instruments\, ages\, visitors\, listeners\, friends\, etc. \nThese sessions are geared towards intermediate/advanced players but anyone is welcome to come and play what they can.  Also\, when someone starts a tune it will be played at the speed it is started\, which can be slow. \nRegular Session Leaders:  Katie McNally and Neil Pearlman. \nCash bar \n$5 minimum donation requested. \nLIST OF POPULAR TUNES played at these sessions here. \nData on which tunes were played each month or frequency of tunes over time:  Lance Ramshaw’s site. \nQuestions?  Send us an email.
URL:https://www.bsfc.org/event/wednesday-night-session-11/
LOCATION:Canadian American Club\, 202 Arlington St.\, Watertown\, MA\, 02472\, United States
CATEGORIES:Wednesday Night Sessions
END:VEVENT
END:VCALENDAR