BEGIN:VCALENDAR
VERSION:2.0
PRODID:-//Boston Scottish Fiddle Club - ECPv6.15.20//NONSGML v1.0//EN
CALSCALE:GREGORIAN
METHOD:PUBLISH
X-ORIGINAL-URL:https://www.bsfc.org
X-WR-CALDESC:Events for Boston Scottish Fiddle Club
REFRESH-INTERVAL;VALUE=DURATION:PT1H
X-Robots-Tag:noindex
X-PUBLISHED-TTL:PT1H
BEGIN:VTIMEZONE
TZID:UTC
BEGIN:STANDARD
TZOFFSETFROM:+0000
TZOFFSETTO:+0000
TZNAME:UTC
DTSTART:20170101T000000
END:STANDARD
END:VTIMEZONE
BEGIN:VTIMEZONE
TZID:America/New_York
BEGIN:DAYLIGHT
TZOFFSETFROM:-0500
TZOFFSETTO:-0400
TZNAME:EDT
DTSTART:20170312T070000
END:DAYLIGHT
BEGIN:STANDARD
TZOFFSETFROM:-0400
TZOFFSETTO:-0500
TZNAME:EST
DTSTART:20171105T060000
END:STANDARD
BEGIN:DAYLIGHT
TZOFFSETFROM:-0500
TZOFFSETTO:-0400
TZNAME:EDT
DTSTART:20180311T070000
END:DAYLIGHT
BEGIN:STANDARD
TZOFFSETFROM:-0400
TZOFFSETTO:-0500
TZNAME:EST
DTSTART:20181104T060000
END:STANDARD
BEGIN:DAYLIGHT
TZOFFSETFROM:-0500
TZOFFSETTO:-0400
TZNAME:EDT
DTSTART:20190310T070000
END:DAYLIGHT
BEGIN:STANDARD
TZOFFSETFROM:-0400
TZOFFSETTO:-0500
TZNAME:EST
DTSTART:20191103T060000
END:STANDARD
END:VTIMEZONE
BEGIN:VEVENT
DTSTART;TZID=UTC:20190505T140000
DTEND;TZID=UTC:20190505T180000
DTSTAMP:20260424T043348
CREATED:20180912T001354Z
LAST-MODIFIED:20190430T184557Z
UID:834-1557064800-1557079200@www.bsfc.org
SUMMARY:Sunday Meeting - with Jenna Moynihan
DESCRIPTION:Workshop Leader:  Jenna Moynihan \nFree for Members\, $15 Non-Members \nThe Sunday Schedule: \n2:00 Beginner/Intermediate workshop (learn tunes at a slower pace) \n3:15 – 3:45 snacks / social (bring something to share if you would like) \n3:45 Intermediate/Advanced workshop (fast-paced and more advanced) \n4:45-6:00 performance/session \n—————————————————— \nOur workshops are led by some of the top musicians and teachers in the field of Scottish and Cape Breton music\, known for their outstanding teaching capability or virtuosity or both.  See their bios here. \nThe first workshop\, beginning at 2:00pm\, is geared toward players who prefer to learn tunes at a slower pace. Expect to learn a tune or two.  At 3:15 there is a half hour social time with snacks\, which is a good time for everyone to catch up with friends and meet new ones. \nThe second workshop\, beginning at 3:45\, is taught at a significantly faster pace and will involve more advanced concepts such as bowing techniques\, grace notes\, etc.  Everyone is welcome to attend both workshops\, however the second workshop will keep pace with the more advanced players.  We hope this format will encourage more people with a broader range of ability levels to participate in our workshops. \nWe end the day with a short performance by the instructor (optional) and a session.
URL:https://www.bsfc.org/event/monday-meeting-workshop-leader-tba/
CATEGORIES:Sunday Meetings/ Sessions
END:VEVENT
BEGIN:VEVENT
DTSTART;TZID=UTC:20190407T140000
DTEND;TZID=UTC:20190407T180000
DTSTAMP:20260424T043348
CREATED:20180912T001251Z
LAST-MODIFIED:20190109T195822Z
UID:832-1554645600-1554660000@www.bsfc.org
SUMMARY:Sunday Meeting with Cathy Goode
DESCRIPTION:Workshop Leader:  Cathy Goode \nFree for Members\, $15 Non-Members \nThe Sunday Schedule: \n2:00 Beginner/Intermediate workshop (learn tunes at a slower pace) \n3:15 – 3:45 snacks / social (bring something to share if you would like) \n3:45 Intermediate/Advanced workshop (fast-paced and more advanced) \n4:45-6:00 performance/session \n—————————————————— \nOur workshops are led by some of the top musicians and teachers in the field of Scottish and Cape Breton music\, known for their outstanding teaching capability or virtuosity or both.  See their bios here. \nThe first workshop\, beginning at 2:00pm\, is geared toward players who prefer to learn tunes at a slower pace. Expect to learn a tune or two.  At 3:15 there is a half hour social time with snacks\, which is a good time for everyone to catch up with friends and meet new ones. \nThe second workshop\, beginning at 3:45\, is taught at a significantly faster pace and will involve more advanced concepts such as bowing techniques\, grace notes\, etc.  Everyone is welcome to attend both workshops\, however the second workshop will keep pace with the more advanced players.  We hope this format will encourage more people with a broader range of ability levels to participate in our workshops. \nWe end the day with a short performance by the instructor (optional) and a session.
URL:https://www.bsfc.org/event/sunday-meeting-workshop-leader-tba-3/
CATEGORIES:Sunday Meetings/ Sessions
END:VEVENT
BEGIN:VEVENT
DTSTART;TZID=UTC:20190303T140000
DTEND;TZID=UTC:20190303T180000
DTSTAMP:20260424T043348
CREATED:20180912T001136Z
LAST-MODIFIED:20190112T181549Z
UID:830-1551621600-1551636000@www.bsfc.org
SUMMARY:Sunday Meeting - with Anne Hooper
DESCRIPTION:Workshop Leader:  Anne Hooper \nFree for Members\, $15 Non-Members \nThe Sunday Schedule: \n2:00 Beginner/Intermediate workshop (learn tunes at a slower pace) \n3:15 – 3:45 snacks / social (bring something to share if you would like) \n3:45 Intermediate/Advanced workshop (fast-paced and more advanced) \n4:45-6:00 performance/session \n—————————————————— \nOur workshops are led by some of the top musicians and teachers in the field of Scottish and Cape Breton music\, known for their outstanding teaching capability or virtuosity or both.  See their bios here. \nThe first workshop\, beginning at 2:00pm\, is geared toward players who prefer to learn tunes at a slower pace. Expect to learn a tune or two.  At 3:15 there is a half hour social time with snacks\, which is a good time for everyone to catch up with friends and meet new ones. \nThe second workshop\, beginning at 3:45\, is taught at a significantly faster pace and will involve more advanced concepts such as bowing techniques\, grace notes\, etc.  Everyone is welcome to attend both workshops\, however the second workshop will keep pace with the more advanced players.  We hope this format will encourage more people with a broader range of ability levels to participate in our workshops. \nWe end the day with a short performance by the instructor (optional) and a session.
URL:https://www.bsfc.org/event/sunday-meeting-workshop-leader-tba-2/
CATEGORIES:Sunday Meetings/ Sessions
END:VEVENT
BEGIN:VEVENT
DTSTART;TZID=UTC:20190203T140000
DTEND;TZID=UTC:20190203T180000
DTSTAMP:20260424T043348
CREATED:20180912T001036Z
LAST-MODIFIED:20190109T161038Z
UID:828-1549202400-1549216800@www.bsfc.org
SUMMARY:Sunday Meeting - with Barbara McOwen
DESCRIPTION:Workshop Leader:  Barbara McOwen \nFree for Members\, $15 Non-Members \nThe Sunday Schedule: \n2:00 Beginner/Intermediate workshop (learn tunes at a slower pace) \n3:15 – 3:45 snacks / social (bring something to share if you would like) \n3:45 Intermediate/Advanced workshop (fast-paced and more advanced) \n4:45-6:00 performance/session \n—————————————————— \nOur workshops are led by some of the top musicians and teachers in the field of Scottish and Cape Breton music\, known for their outstanding teaching capability or virtuosity or both.  See their bios here. \nThe first workshop\, beginning at 2:00pm\, is geared toward players who prefer to learn tunes at a slower pace. Expect to learn a tune or two.  At 3:15 there is a half hour social time with snacks\, which is a good time for everyone to catch up with friends and meet new ones. \nThe second workshop\, beginning at 3:45\, is taught at a significantly faster pace and will involve more advanced concepts such as bowing techniques\, grace notes\, etc.  Everyone is welcome to attend both workshops\, however the second workshop will keep pace with the more advanced players.  We hope this format will encourage more people with a broader range of ability levels to participate in our workshops. \nWe end the day with a short performance by the instructor (optional) and a session. \nOLYMPUS DIGITAL CAMERA
URL:https://www.bsfc.org/event/sunday-meeting-workshop-leader-tba/
CATEGORIES:Sunday Meetings/ Sessions
END:VEVENT
BEGIN:VEVENT
DTSTART;TZID=UTC:20190106T140000
DTEND;TZID=UTC:20190106T180000
DTSTAMP:20260424T043348
CREATED:20180912T000143Z
LAST-MODIFIED:20180912T000513Z
UID:826-1546783200-1546797600@www.bsfc.org
SUMMARY:Sunday Meeting with Katie McNally
DESCRIPTION:Workshop Leader:  Katie MacNally \nFree for Members\, $15 Non-Members \nThe Sunday Schedule: \n2:00 Beginner/Intermediate workshop (learn tunes at a slower pace) \n3:15 – 3:45 snacks / social (bring something to share if you would like) \n3:45 Intermediate/Advanced workshop (fast-paced and more advanced) \n4:45-6:00 performance/session \n—————————————————— \nOur workshops are led by some of the top musicians and teachers in the field of Scottish and Cape Breton music\, known for their outstanding teaching capability or virtuosity or both.  See their bios here. \nThe first workshop\, beginning at 2:00pm\, is geared toward players who prefer to learn tunes at a slower pace. Expect to learn a tune or two.  At 3:15 there is a half hour social time with snacks\, which is a good time for everyone to catch up with friends and meet new ones. \nThe second workshop\, beginning at 3:45\, is taught at a significantly faster pace and will involve more advanced concepts such as bowing techniques\, grace notes\, etc.  Everyone is welcome to attend both workshops\, however the second workshop will keep pace with the more advanced players.  We hope this format will encourage more people with a broader range of ability levels to participate in our workshops. \nWe end the day with a short performance by the instructor (optional) and a session.
URL:https://www.bsfc.org/event/sunday-meeting-with-katie-mcnally/
CATEGORIES:Sunday Meetings/ Sessions
ATTACH;FMTTYPE=image/jpeg:https://www.bsfc.org/wp-content/uploads/2017/09/Katie-copy-e1664582378310.jpg
END:VEVENT
BEGIN:VEVENT
DTSTART;TZID=America/New_York:20181111T111500
DTEND;TZID=America/New_York:20181111T124500
DTSTAMP:20260424T043348
CREATED:20180911T235526Z
LAST-MODIFIED:20181101T005840Z
UID:821-1541934900-1541940300@www.bsfc.org
SUMMARY:Sunday Meeting - 11:30am @ Can Am Club - with Ian MacDougall
DESCRIPTION:Location: Canadian American Club in Watertown \nWorkshop Leader:  Ian MacDougall\, a fiddler from Foot Cape\, Cape Breton. \nFree for Members\, $15 Non-Members \n11:30-1:00 Workshop with Ian MacDougall \nAfter the workshop you can go upstairs and attend the Canadian American Club’s annual Gala\, an all-day affair (1-6pm) that includes performances of local musicians and dancers\, including Ian MacDougall. \n4:00 – Boston Scottish Fiddle Orchestra performs
URL:https://www.bsfc.org/event/821/
LOCATION:Canadian American Club\, 202 Arlington St.\, Watertown\, MA\, 02472\, United States
CATEGORIES:Sunday Meetings/ Sessions
ATTACH;FMTTYPE=image/jpeg:https://www.bsfc.org/wp-content/uploads/2018/09/original.jpg
END:VEVENT
BEGIN:VEVENT
DTSTART;TZID=UTC:20181007T140000
DTEND;TZID=UTC:20181007T180000
DTSTAMP:20260424T043348
CREATED:20180911T184425Z
LAST-MODIFIED:20180912T000306Z
UID:819-1538920800-1538935200@www.bsfc.org
SUMMARY:Monthly Meeting with Ed Pearlman
DESCRIPTION:Workshop Leader:  Ed Pearlman \nFree for Members\, $15 Non-Members \nThe Sunday Schedule: \n2:00 Beginner/Intermediate workshop (learn tunes at a slower pace) \n3:15 – 3:45 snacks / social (bring something to share if you would like) \n3:45 Intermediate/Advanced workshop (fast-paced and more advanced) \n4:45-6:00 performance/session \n—————————————————— \nOur workshops are led by some of the top musicians and teachers in the field of Scottish and Cape Breton music\, known for their outstanding teaching capability or virtuosity or both.  See their bios here. \nThe first workshop\, beginning at 2:00pm\, is geared toward players who prefer to learn tunes at a slower pace. Expect to learn a tune or two.  At 3:15 there is a half hour social time with snacks\, which is a good time for everyone to catch up with friends and meet new ones. \nThe second workshop\, beginning at 3:45\, is taught at a significantly faster pace and will involve more advanced concepts such as bowing techniques\, grace notes\, etc.  Everyone is welcome to attend both workshops\, however the second workshop will keep pace with the more advanced players.  We hope this format will encourage more people with a broader range of ability levels to participate in our workshops. \nWe end the day with a short performance by the instructor (optional) and a session.
URL:https://www.bsfc.org/event/monthly-meeting-with-ed-pearlman/
LOCATION:Plymouth Congregational Church\, 582 Pleasant St.\, Belmont\, United States
CATEGORIES:Sunday Meetings/ Sessions
ATTACH;FMTTYPE=image/jpeg:https://www.bsfc.org/wp-content/uploads/2017/08/wpaf472df9_05_06.jpg
END:VEVENT
BEGIN:VEVENT
DTSTART;TZID=America/New_York:20180919T193000
DTEND;TZID=America/New_York:20180919T220000
DTSTAMP:20260424T043348
CREATED:20180911T161833Z
LAST-MODIFIED:20180911T171153Z
UID:780-1537385400-1537394400@www.bsfc.org
SUMMARY:Wednesday Night Session
DESCRIPTION:Meets the Third Wednesday of the month (September – June) \nThe Boston Scottish Fiddle Club sponsors this Scottish and Cape Breton jam session.  The energetic sessions have become quite popular and there is always room for more.  Come and play your favorite tunes with old and new friends. \nEveryone is welcome – All acoustic instruments\, ages\, visitors\, listeners\, friends\, etc. \nThese sessions are geared towards intermediate/advanced players but anyone is welcome to come and play what they can.  Also\, when someone starts a tune it will be played at the speed it is started\, which can be slow. \nThis month’s Session Leaders:  Katie McNally and Lance Ramshaw. \nCash bar \n$5 minimum donation requested. \nLIST OF POPULAR TUNES played at these sessions here. \nData on which tunes were played each month or frequency of tunes over time:  Lance Ramshaw’s site. \nQuestions?  Send us an email.
URL:https://www.bsfc.org/event/wednesday-night-session-10/
LOCATION:Canadian American Club\, 202 Arlington St.\, Watertown\, MA\, 02472\, United States
CATEGORIES:Sunday Meetings/ Sessions
END:VEVENT
END:VCALENDAR