BEGIN:VCALENDAR
VERSION:2.0
PRODID:-//Boston Scottish Fiddle Club - ECPv6.15.20//NONSGML v1.0//EN
CALSCALE:GREGORIAN
METHOD:PUBLISH
X-ORIGINAL-URL:https://www.bsfc.org
X-WR-CALDESC:Events for Boston Scottish Fiddle Club
REFRESH-INTERVAL;VALUE=DURATION:PT1H
X-Robots-Tag:noindex
X-PUBLISHED-TTL:PT1H
BEGIN:VTIMEZONE
TZID:America/New_York
BEGIN:DAYLIGHT
TZOFFSETFROM:-0500
TZOFFSETTO:-0400
TZNAME:EDT
DTSTART:20180311T070000
END:DAYLIGHT
BEGIN:STANDARD
TZOFFSETFROM:-0400
TZOFFSETTO:-0500
TZNAME:EST
DTSTART:20181104T060000
END:STANDARD
BEGIN:DAYLIGHT
TZOFFSETFROM:-0500
TZOFFSETTO:-0400
TZNAME:EDT
DTSTART:20190310T070000
END:DAYLIGHT
BEGIN:STANDARD
TZOFFSETFROM:-0400
TZOFFSETTO:-0500
TZNAME:EST
DTSTART:20191103T060000
END:STANDARD
BEGIN:DAYLIGHT
TZOFFSETFROM:-0500
TZOFFSETTO:-0400
TZNAME:EDT
DTSTART:20200308T070000
END:DAYLIGHT
BEGIN:STANDARD
TZOFFSETFROM:-0400
TZOFFSETTO:-0500
TZNAME:EST
DTSTART:20201101T060000
END:STANDARD
END:VTIMEZONE
BEGIN:VTIMEZONE
TZID:UTC
BEGIN:STANDARD
TZOFFSETFROM:+0000
TZOFFSETTO:+0000
TZNAME:UTC
DTSTART:20160101T000000
END:STANDARD
END:VTIMEZONE
BEGIN:VEVENT
DTSTART;TZID=America/New_York:20190601T183000
DTEND;TZID=America/New_York:20190601T230000
DTSTAMP:20260424T042944
CREATED:20180912T020409Z
LAST-MODIFIED:20190513T185803Z
UID:855-1559413800-1559430000@www.bsfc.org
SUMMARY:BSFC - Concert-Dance-Gala
DESCRIPTION:Guest performer:  Katie McNally \nDoors open at 6:30 \nConcert begins at 7:00 \nDancing 9:00-11:00 \n\nBoston Scottish Fiddle Orchestra concert\nSpecial Guest Fiddler:  Katie McNally\nDancing for everyone\nSilent Auction\nCash Bar\nRefreshments
URL:https://www.bsfc.org/event/boston-scottish-fiddle-club-concert-gala-fundraiser/
LOCATION:Canadian American Club\, 202 Arlington St.\, Watertown\, MA\, 02472\, United States
CATEGORIES:Orchestra Schedule
END:VEVENT
BEGIN:VEVENT
DTSTART;TZID=UTC:20181021T140000
DTEND;TZID=UTC:20181021T180000
DTSTAMP:20260424T042944
CREATED:20180912T005050Z
LAST-MODIFIED:20180912T012952Z
UID:843-1540130400-1540144800@www.bsfc.org
SUMMARY:Orchestra:  "Fiddlers on the Farm" at Gore Place\, Waltham
DESCRIPTION:Fiddlers on the Farm featuring music by The Boston Scottish Fiddle Orchestra led by Neil Pearlman and Traditional Irish Music on Two Fiddles with Nathan Gourley and Laura Feddersen. \nNew England has a great tradition of fiddle music incorporating Scottish\, Cape Breton\, Quebecoise\, English\, Irish and Scandinavian tunes into its own special style. Enjoy an afternoon of fiddle performances representing some of these wonderful influences. Along with the concerts\, there will be an opportunity for fiddlers and all musicians to jam\, so bring your instruments! \nAlso\, apple crisp\, coffee\, and other apple delights on sale! \nADMISSION $10 adults. Kids 12 and under free.  \nAdvance tickets available at fiddlers-farm.bpt.me  \nPROGRAM  \n2-3 pm The Boston Scottish Fiddle Orchestra  \n3-4 pm  Twin Irish Fiddles: Nathan Gourley and Laura FeddersenTraditional Irish music on two fiddles http://www.nathanandlauramusic.com/ \n5-6 pm  Open jams in Tent and Carriage House
URL:https://www.bsfc.org/event/orchestra-fiddlers-on-the-farm-gore-place/
LOCATION:MA
CATEGORIES:Orchestra Schedule
END:VEVENT
BEGIN:VEVENT
DTSTART;TZID=UTC:20180916T130000
DTEND;TZID=UTC:20180916T163000
DTSTAMP:20260424T042944
CREATED:20180912T002202Z
LAST-MODIFIED:20180912T183523Z
UID:838-1537102800-1537115400@www.bsfc.org
SUMMARY:Orchestra:  Northborough Parade and Concert
DESCRIPTION:The BSFO will play on a float in Northborough’s Applefest parade at 1:30.  Following the parade the orchestra will perform at 3:45pm. \nFor more information about AppleFest:  http://www.northboroughapplefest.com/html/culture.html \n 
URL:https://www.bsfc.org/event/northborough-parade-and-concert/
LOCATION:MA
CATEGORIES:Orchestra Schedule
END:VEVENT
BEGIN:VEVENT
DTSTART;TZID=UTC:20170831T190000
DTEND;TZID=UTC:20170831T210000
DTSTAMP:20260424T042944
CREATED:20170830T152445Z
LAST-MODIFIED:20170830T152445Z
UID:321-1504206000-1504213200@www.bsfc.org
SUMMARY:Orchestra Rehearsal
DESCRIPTION:With Neil.  Refer to email for location.
URL:https://www.bsfc.org/event/orchestra-rehearsal/
LOCATION:MA
CATEGORIES:Orchestra Schedule
END:VEVENT
END:VCALENDAR