BEGIN:VCALENDAR
VERSION:2.0
PRODID:-//Boston Scottish Fiddle Club - ECPv6.15.20//NONSGML v1.0//EN
CALSCALE:GREGORIAN
METHOD:PUBLISH
X-WR-CALNAME:Boston Scottish Fiddle Club
X-ORIGINAL-URL:https://www.bsfc.org
X-WR-CALDESC:Events for Boston Scottish Fiddle Club
REFRESH-INTERVAL;VALUE=DURATION:PT1H
X-Robots-Tag:noindex
X-PUBLISHED-TTL:PT1H
BEGIN:VTIMEZONE
TZID:Asia/Karachi
BEGIN:STANDARD
TZOFFSETFROM:+0500
TZOFFSETTO:+0500
TZNAME:PKT
DTSTART:20240101T000000
END:STANDARD
END:VTIMEZONE
BEGIN:VEVENT
DTSTART;TZID=Asia/Karachi:20250115T193000
DTEND;TZID=Asia/Karachi:20250115T220000
DTSTAMP:20260424T103321
CREATED:20240904T011314Z
LAST-MODIFIED:20250109T180406Z
UID:5340-1736969400-1736978400@www.bsfc.org
SUMMARY:Scottish and Cape Breton Session
DESCRIPTION:Scottish and Cape Breton Session
URL:https://www.bsfc.org/event/scottish-and-cape-breton-session-8/
LOCATION:MA
END:VEVENT
END:VCALENDAR