BEGIN:VCALENDAR
VERSION:2.0
PRODID:-//Boston Scottish Fiddle Club - ECPv6.15.20//NONSGML v1.0//EN
CALSCALE:GREGORIAN
METHOD:PUBLISH
X-WR-CALNAME:Boston Scottish Fiddle Club
X-ORIGINAL-URL:https://www.bsfc.org
X-WR-CALDESC:Events for Boston Scottish Fiddle Club
REFRESH-INTERVAL;VALUE=DURATION:PT1H
X-Robots-Tag:noindex
X-PUBLISHED-TTL:PT1H
BEGIN:VTIMEZONE
TZID:UTC
BEGIN:STANDARD
TZOFFSETFROM:+0000
TZOFFSETTO:+0000
TZNAME:UTC
DTSTART:20230101T000000
END:STANDARD
END:VTIMEZONE
BEGIN:VEVENT
DTSTART;TZID=UTC:20240908T140000
DTEND;TZID=UTC:20240908T160000
DTSTAMP:20260424T160348
CREATED:20240904T005706Z
LAST-MODIFIED:20240904T005706Z
UID:5330-1725804000-1725811200@www.bsfc.org
SUMMARY:Annual Meeting and Season Kickoff
DESCRIPTION:
URL:https://www.bsfc.org/event/annual-meeting-and-season-kickoff/
LOCATION:MA
END:VEVENT
END:VCALENDAR